BEGIN:VCALENDAR
VERSION:2.0
PRODID:-//ChamberMaster//Event Calendar 2.0//EN
METHOD:PUBLISH
X-PUBLISHED-TTL:P3D
REFRESH-INTERVAL:P3D
CALSCALE:GREGORIAN
BEGIN:VEVENT
DTSTART:20260502T230000Z
DTEND:20260503T010000Z
X-MICROSOFT-CDO-ALLDAYEVENT:FALSE
SUMMARY:Dave Richman\, Classical Guitar
DESCRIPTION:On Saturday\, May 2\, from 7-9 p.m.\, the Unitarian Universalist Church of Cortland presents an encore performance of Dave Richman on classical guitar. The program will include music from Renaissance to Baroque\, from 19th century Classical to Modern\, as well as Spanish Guitar and South American compositions. Dave will discuss each composer as well as the ways music changed and progressed over the centuries. In this unique and intimate setting\, listeners are able to view\, as well as hear\, each note.
X-ALT-DESC;FMTTYPE=text/html:On Saturday\, May 2\, from 7-9 p.m.\, the Unitarian Universalist Church of Cortland presents an encore performance of Dave Richman on classical guitar. The program will include music from Renaissance to Baroque\, from 19th century Classical to Modern\, as well as Spanish Guitar and South American compositions. Dave will discuss each composer as well as the ways music changed and progressed over the centuries. In this unique and intimate setting\, listeners are able to view\, as well as hear\, each note.
LOCATION:Unitarian Universalist Church of Cortland 3 Church St. (Use Elm St. entrance)
UID:e.2928.4213
SEQUENCE:3
DTSTAMP:20260423T190110Z
URL:https://www.cortlandareachamber.com/events/details/dave-richman-classical-guitar-4213
END:VEVENT

END:VCALENDAR
