BEGIN:VCALENDAR
VERSION:2.0
PRODID:-//ChamberMaster//Event Calendar 2.0//EN
METHOD:PUBLISH
X-PUBLISHED-TTL:P3D
REFRESH-INTERVAL:P3D
CALSCALE:GREGORIAN
BEGIN:VEVENT
DTSTART:20260516T170000Z
DTEND:20260516T190000Z
X-MICROSOFT-CDO-ALLDAYEVENT:FALSE
SUMMARY:Homer\, New York: New York City’s Milk Supplier
DESCRIPTION:"Homer\, New York: New York City's Milk Supplier\," Saturday\, May 16\, 1:00 pm at the Central New York Living History Center\, 4386 US Route 11\, Cortland\, NY. \n\n \n\nPresented by Joshua K. Blay\, historian and archivist. Learn about Homer's provision of milk for New York City and the role of railroads in the dairy industry from the late 1800s to the 1980s. \n\n \n\nRefreshments after the presentation\n\n \n\nTour the CNY Living History Center's Agriculture Exhibit\, which features the history of local dairy production.\n\n\n\nJoshua K. Blay was born in Cortland and graduated from Homer High School. He has worked in museums & archives for more than 20 years and is an archivist for the City of Philadelphia.\n\n\n\nFor information: homevillemuseumboard@gmail.com\,  607-283-4875\, \n\nwww.homevillemuseum.com\n\n \n\nAdmission prices below include the event & tours of all CNY Living History Center museums: Homeville Museum\, Brockway Truck Museum\, Agriculture Exhibits\, Antique Fire House\n\nFree for kids 5 & under\, AD Military\; $7 ages 6-18\; $12 Seniors\, AAA members\, veterans with ID\; $15 adults
X-ALT-DESC;FMTTYPE=text/html:<span style="font-family:calibri\,sans-serif"><span style="font-size:14.0pt">&ldquo\;Homer\, New York: New York City&rsquo\;s Milk Supplier\,&rdquo\; Saturday\, May 16\, 1:00 pm at the Central New York Living History Center\, 4386 US Route 11\, Cortland\, NY. </span></span><br />\n&nbsp\;<br />\n<span style="font-family:calibri\,sans-serif"><span style="font-size:14.0pt">Presented by Joshua K. Blay\, historian and archivist. Learn about </span></span><span style="font-family:calibri\,sans-serif"><span style="font-size:14.0pt">Homer&rsquo\;s provision of milk for New York City and the role of railroads in the dairy industry from the late 1800s to the 1980s.&nbsp\;</span></span><br />\n&nbsp\;<br />\n<span style="font-family:calibri\,sans-serif"><span style="font-size:14.0pt">Refreshments after the presentation</span></span><br />\n&nbsp\;<br />\n<span style="font-family:calibri\,sans-serif"><span style="font-size:14.0pt">Tour the CNY Living History Center&rsquo\;s Agriculture Exhibit\, which features the history of local dairy production.</span></span><br />\n<br />\n<span style="font-size:16px">Joshua K. Blay was born in Cortland and graduated from Homer High School. He has worked in museums &amp\; archives for more than 20 years and is an archivist for the City of Philadelphia.</span><br />\n<br />\n<span style="font-family:calibri\,sans-serif"><span style="font-size:14.0pt">For information: </span></span><a href="mailto:homevillemuseumboard@gmail.com"><span style="font-family:calibri\,sans-serif"><span style="font-size:14.0pt">homevillemuseumboard@gmail.com</span></span></a><span style="font-family:calibri\,sans-serif"><span style="font-size:14.0pt">\,&nbsp\; 607-283-4875\, </span></span><br />\n<a href="http://www.homevillemuseum.com"><span style="font-family:calibri\,sans-serif"><span style="font-size:14.0pt">www.homevillemuseum.com</span></span></a><br />\n&nbsp\;<br />\n<span style="font-family:calibri\,sans-serif"><span style="font-size:14.0pt">Admission prices below include the event &amp\; tours of all CNY Living History Center museums: Homeville Museum\, Brockway Truck Museum\, Agriculture Exhibits\, Antique Fire House</span></span><br />\n<span style="font-family:calibri\,sans-serif"><span style="font-size:14.0pt">Free for kids 5 &amp\; under\, AD Military\; $7 ages 6-18\; $12 Seniors\, AAA members\, veterans with ID\; $15 adults</span></span><br />\n&nbsp\;<br />\n&nbsp\;
LOCATION:Central New York Living History Center\, 4386 US Rte. 11\, Cortland\, N.Y.
UID:e.2928.4212
SEQUENCE:3
DTSTAMP:20260420T164309Z
URL:https://www.cortlandareachamber.com/events/details/homer-new-york-new-york-city-s-milk-supplier-4212
END:VEVENT

END:VCALENDAR
