BEGIN:VCALENDAR
VERSION:2.0
PRODID:-//ChamberMaster//Event Calendar 2.0//EN
METHOD:PUBLISH
X-PUBLISHED-TTL:P3D
REFRESH-INTERVAL:P3D
CALSCALE:GREGORIAN
BEGIN:VEVENT
DTSTART:20250130T230000Z
DTEND:20250131T010000Z
X-MICROSOFT-CDO-ALLDAYEVENT:FALSE
SUMMARY:Paint & Sip
DESCRIPTION:Come paint a crazy chicken along with friends or family. Stacey from The Party Brush from Owego will be coming to teach the class. The class is $35.00 and all supplies are included and you will be painting on a 16 x 20 canvas. Snacks and drinks will be provided or feel free to bring your own. Register at www.thepartybrushstudio.com Questions? Contact Stacey at 607-624-4410
X-ALT-DESC;FMTTYPE=text/html:Come paint a crazy chicken along with friends or family. Stacey from The Party Brush from Owego will be coming to teach the class. The class is $35.00 and all supplies are included and you will be painting on a 16 x 20 canvas. Snacks and drinks will be provided or feel free to bring your own. Register at www.thepartybrushstudio.com Questions? Contact Stacey at 607-624-4410
LOCATION:Virgil Community Living Center 1208 Church Street Cortland\, NY 13045
UID:e.2928.3059
SEQUENCE:3
DTSTAMP:20260419T234000Z
URL:https://www.cortlandareachamber.com/events/details/paint-sip-3059
END:VEVENT

END:VCALENDAR
